BEGIN:VCALENDAR
VERSION:2.0
PRODID:-//Bar Loose - rockbaari, keikkapaikka ja yökerho - ECPv6.3.5//NONSGML v1.0//EN
CALSCALE:GREGORIAN
METHOD:PUBLISH
X-WR-CALNAME:Bar Loose - rockbaari, keikkapaikka ja yökerho
X-ORIGINAL-URL:https://barloose.com
X-WR-CALDESC:Tapahtumat Bar Loose - rockbaari, keikkapaikka ja yökerho
REFRESH-INTERVAL;VALUE=DURATION:PT1H
X-Robots-Tag:noindex
X-PUBLISHED-TTL:PT1H
BEGIN:VTIMEZONE
TZID:Europe/Helsinki
BEGIN:DAYLIGHT
TZOFFSETFROM:+0200
TZOFFSETTO:+0300
TZNAME:EEST
DTSTART:20210328T010000
END:DAYLIGHT
BEGIN:STANDARD
TZOFFSETFROM:+0300
TZOFFSETTO:+0200
TZNAME:EET
DTSTART:20211031T010000
END:STANDARD
BEGIN:DAYLIGHT
TZOFFSETFROM:+0200
TZOFFSETTO:+0300
TZNAME:EEST
DTSTART:20220327T010000
END:DAYLIGHT
BEGIN:STANDARD
TZOFFSETFROM:+0300
TZOFFSETTO:+0200
TZNAME:EET
DTSTART:20221030T010000
END:STANDARD
END:VTIMEZONE
BEGIN:VEVENT
DTSTART;TZID=Europe/Helsinki:20220223T200000
DTEND;TZID=Europe/Helsinki:20220223T220000
DTSTAMP:20260425T192447
CREATED:20220215T082836Z
LAST-MODIFIED:20220215T083404Z
UID:10000749-1645646400-1645653600@barloose.com
SUMMARY:The Lone Madman\, Zombie Eater\, Mantequilla
DESCRIPTION:Wednesday Night of Doom metal\, Sludge and Stoner!\n\n19.30 ovet\n20.00 Mantequilla\n20.45 Zombie Eater\n21.30 The Lone Madman
URL:https://barloose.com/live/the-lone-madman-zombie-eater-mantequilla-2/
ATTACH;FMTTYPE=image/jpeg:https://barloose.com/wp-content/uploads/2022/02/Mad.jpeg
END:VEVENT
BEGIN:VEVENT
DTSTART;TZID=Europe/Helsinki:20220219T200000
DTEND;TZID=Europe/Helsinki:20220219T220000
DTSTAMP:20260425T192447
CREATED:20220215T082620Z
LAST-MODIFIED:20220216T143422Z
UID:10000748-1645300800-1645308000@barloose.com
SUMMARY:THE BACKSTABBERS -levyjulkkarit\, ATOMIC ANNIE\, TESTICALS
DESCRIPTION:The Backstabbers julkaisi vihdoin odotetun debyyttialbuminsa FOR ALL THE BASTARDS ja sitä juhlitaan isosti kolmen bändin voimin tietysti Bar Loosessa lauantaina 19.2.2022. Illassa The Backstabbersin lisäksi keikalla vimpan päälle hyvät bändit Atomic Annie sekä Testicals!\n\nSoittoajat:\n20.00 TESTICALS\n20.45 ATOMIC ANNIE\n21.30 THE BACKSTABBERS
URL:https://barloose.com/live/the-backstabbers-levyjulkkarit-dead-furies-testicals/
ATTACH;FMTTYPE=image/jpeg:https://barloose.com/wp-content/uploads/2022/02/Ato.jpeg
END:VEVENT
BEGIN:VEVENT
DTSTART;TZID=Europe/Helsinki:20220218T200000
DTEND;TZID=Europe/Helsinki:20220218T220000
DTSTAMP:20260425T192447
CREATED:20220215T082234Z
LAST-MODIFIED:20220215T082313Z
UID:10000747-1645214400-1645221600@barloose.com
SUMMARY:Ysäri & indie: Palmpillows\, Ambulance\, Junnu Alajuuma (soolo)
DESCRIPTION:Bar Loosen keikat jatkuu taas koronatauon jälkeen perjantaina 18.2. Ensimmäisenä keikkailtana lavalle nousee kaksi loistavaa indiebändiä\, joiden soundeissa 90-lukulaiset surinakitarat ja oikeaoppinen melu on hyvin vahvassa esillä. Hienon illan tulee aloittamaan mm. The Flaming Sideburns ja Kap Kap -yhtyeistä tuttu muusikko Junnu Alajuuma\, joka esiintyy soolona. \nAikataulu:\n19.30 ovet\n20.00 Junnu Alajuuma\n20.45 Ambulance\n21.30 Palmpillows
URL:https://barloose.com/live/ysari-indie-palmpillows-ambulance-junnu-alajuuma-soolo/
ATTACH;FMTTYPE=image/jpeg:https://barloose.com/wp-content/uploads/2022/02/Palm2.jpg
END:VEVENT
BEGIN:VEVENT
DTSTART;TZID=Europe/Helsinki:20220128T000000
DTEND;TZID=Europe/Helsinki:20220128T000000
DTSTAMP:20260425T192447
CREATED:20211211T141343Z
LAST-MODIFIED:20211211T141343Z
UID:10000741-1643328000-1643328000@barloose.com
SUMMARY:RÄYHÄROCK
DESCRIPTION:RäyhäRock palaa pandemiatauolta. \nRäyhäboxin koko katras lavalla sekoilemassa: Eeron Maiden\, Ilonalle\, Kerma\, Maximum Kayal\, Perjantai. \nLiput (vain ovelta) 20€. \nwww.rayharock.com
URL:https://barloose.com/live/rayharock/
LOCATION:Bar Loose\, Annankatu 21\, Helsinki\, Helsinki\, 00100\, Finland
ATTACH;FMTTYPE=image/jpeg:https://barloose.com/wp-content/uploads/2021/12/251934301_1574181126125414_1278740979087486035_n.jpg
END:VEVENT
BEGIN:VEVENT
DTSTART;TZID=Europe/Helsinki:20220119T210000
DTEND;TZID=Europe/Helsinki:20220119T210000
DTSTAMP:20260425T192447
CREATED:20211211T141003Z
LAST-MODIFIED:20211225T064040Z
UID:10000739-1642626000-1642626000@barloose.com
SUMMARY:PERUUNTUNUT/SIIRTYY: KASKAS\, RAJAPINTA\, CRIMSONIC
DESCRIPTION:Nyt olisi tarjolla runsas kattaus rockia sekä englanniksi että suomeksi\, kun Kaskas\, Rajapinta ja Crimsonic lyövät hynttyyt yhteen ja saapuvat viihdyttämään porukkaa Bar Looseen!\nIllan aikataulu\n20.30 ovet\n21.00 Kaskas\n21.45 Rajapinta\n22.30 Crimsonic\nPääsylippu 7 € + 3 € narikkamaksu!
URL:https://barloose.com/live/kaskas-rajapinta-crimsonic/
LOCATION:Bar Loose\, Annankatu 21\, Helsinki\, Helsinki\, 00100\, Finland
ATTACH;FMTTYPE=image/jpeg:https://barloose.com/wp-content/uploads/2021/12/255754099_970742396872974_4894067759840563826_n.jpg
END:VEVENT
BEGIN:VEVENT
DTSTART;TZID=Europe/Helsinki:20220112T210000
DTEND;TZID=Europe/Helsinki:20220112T210000
DTSTAMP:20260425T192447
CREATED:20211211T140616Z
LAST-MODIFIED:20211225T064012Z
UID:10000737-1642021200-1642021200@barloose.com
SUMMARY:PERUUNTUNUT/SIIRTYY: SAARISALO\, IPANEMAN SKEBAT
DESCRIPTION:Saarisalo & Ipaneman Skebat vetävät Bar Loosessa debyyttikeikkansa! Tätä ei kannata missata \nOvet 20.30\nSaarisalo 21.00\nIpaneman Skebat 22.00\nLiput 8e + narikka
URL:https://barloose.com/live/saarisalo-ipaneman-skebat/
LOCATION:Bar Loose\, Annankatu 21\, Helsinki\, Helsinki\, 00100\, Finland
ATTACH;FMTTYPE=image/jpeg:https://barloose.com/wp-content/uploads/2021/12/261673060_645612606801670_4382318414387527714_n.jpg
END:VEVENT
BEGIN:VEVENT
DTSTART;TZID=Europe/Helsinki:20220108T210000
DTEND;TZID=Europe/Helsinki:20220108T210000
DTSTAMP:20260425T192447
CREATED:20211211T140326Z
LAST-MODIFIED:20211225T064059Z
UID:10000735-1641675600-1641675600@barloose.com
SUMMARY:PERUUNTUNUT/SIIRTYY: NEGATIIVISET NUORET\, RIPITORI OD
DESCRIPTION:BUY TICKETS!
URL:https://barloose.com/live/negatiiviset-nuoret-ripitori-od/
LOCATION:Bar Loose\, Annankatu 21\, Helsinki\, Helsinki\, 00100\, Finland
ATTACH;FMTTYPE=image/jpeg:https://barloose.com/wp-content/uploads/2021/12/255887321_1734789030040014_7995234650815953298_n.jpg
END:VEVENT
BEGIN:VEVENT
DTSTART;TZID=Europe/Helsinki:20220106T210000
DTEND;TZID=Europe/Helsinki:20220106T210000
DTSTAMP:20260425T192447
CREATED:20211211T140043Z
LAST-MODIFIED:20211225T064111Z
UID:10000733-1641502800-1641502800@barloose.com
SUMMARY:PERUUNTUNUT/SIIRTYY: NEW SILVER GIRL\, HERMOPALO\, VILLE MIETTINEN
DESCRIPTION:
URL:https://barloose.com/live/new-silver-girl-hermopalo-ville-miettinen/
LOCATION:Bar Loose\, Annankatu 21\, Helsinki\, Helsinki\, 00100\, Finland
ATTACH;FMTTYPE=image/jpeg:https://barloose.com/wp-content/uploads/2021/12/N1.jpg
END:VEVENT
BEGIN:VEVENT
DTSTART;TZID=Europe/Helsinki:20220105T210000
DTEND;TZID=Europe/Helsinki:20220105T210000
DTSTAMP:20260425T192447
CREATED:20211211T135323Z
LAST-MODIFIED:20211225T064151Z
UID:10000731-1641416400-1641416400@barloose.com
SUMMARY:PERUUNTUNUT/SIIRTYY: MINUTIAN\, KEOMA\, COLIAH
DESCRIPTION:
URL:https://barloose.com/live/minutian-keoma-coliah/
LOCATION:Bar Loose\, Annankatu 21\, Helsinki\, Helsinki\, 00100\, Finland
ATTACH;FMTTYPE=image/jpeg:https://barloose.com/wp-content/uploads/2021/12/262852614_4674312705948419_430143495561212500_n.jpg
END:VEVENT
BEGIN:VEVENT
DTSTART;TZID=Europe/Helsinki:20220101T210000
DTEND;TZID=Europe/Helsinki:20220101T210000
DTSTAMP:20260425T192447
CREATED:20211211T135056Z
LAST-MODIFIED:20211225T064137Z
UID:10000729-1641070800-1641070800@barloose.com
SUMMARY:PERUUNTUNUT/SIIRTYY: FIVEFIFTEEN & NOLLANOLLANOLLA
DESCRIPTION:FIVE FIFTEEN JA NOLLANOLLANOLLA YHTEISKEIKALLA !\nFive Fifteen – tuo kotimaisen hardrock/proge-kentän elävä legenda – julkaisi lokakuun 8. päivä uuden Psychedelic Chorus Rock for the Whole Family -nimeä kantavan pitkäsoiton\, joka nousi Suomen kiinteiden albumimyyntien top kymppiin. \nNyt on aika juhlia uutta levyä Bar Loosessa\, missä Five Fifteenin kanssa lavan jakaa tällä kertaa yksi suomalaisen punkrockin legendaarisimmista kulttibändeistä Helsingistä: NollaNollaNolla. Tätä yhteiskeikkaa on yritetty järjestää jo kolme vuotta ja NYT VIHDOINKIN SE TAPAHTUU! LET ME TELL YOU ABOUT THE PLACE I KNOW CALLED HELLSINKI ROCK CITY HERE WE GO! JOIN THE GANG!
URL:https://barloose.com/live/fivefifteen-nollanollanolla/
LOCATION:Bar Loose\, Annankatu 21\, Helsinki\, Helsinki\, 00100\, Finland
ATTACH;FMTTYPE=image/jpeg:https://barloose.com/wp-content/uploads/2021/12/264165733_5097708023589970_7695505259518816059_n.jpg
END:VEVENT
BEGIN:VEVENT
DTSTART;TZID=Europe/Helsinki:20211231T210000
DTEND;TZID=Europe/Helsinki:20211231T210000
DTSTAMP:20260425T192447
CREATED:20211211T133436Z
LAST-MODIFIED:20211225T064124Z
UID:10000727-1640984400-1640984400@barloose.com
SUMMARY:PERUUNTUNUT/SIIRTYY: I REVOLT\, CRICIFY THE FAITH\, CARNIVAL ACADEMY\, ROJU
DESCRIPTION:KUNNON VITUN UV-BILEET VOL.3! \nOn taas uuden vuoden aika\, ja toivottavasti paremman sellaisen. Kunnon Vitun UV-bileet takaavat vauhdikkaan lähdön vuodelle 2022\, kun jo toisen koronavuoden patoutuneet aggressiot saa purkaa nopean metallin tahtiin – ja samalla kun aggressio lähtee\, biletunnelma nousee! \nKVUV-bileet takaavat jo kolmatta kertaa uudenvuoden armottomimman menon ja kipeän niskan.. (Ja tukan…)\nAloita siis vuotesi energisesti ja saavu paikalle 31.12. Bar Looseen! \nAikataulu:\n20.00 OVET\n20.30 Roju\n21.20 Carnival Academy\n22.10 Crucify The Faith\n23.00 I Revolt
URL:https://barloose.com/live/i-revolt-cricify-the-faith-carnival-academy-roju/
LOCATION:Bar Loose\, Annankatu 21\, Helsinki\, Helsinki\, 00100\, Finland
ATTACH;FMTTYPE=image/jpeg:https://barloose.com/wp-content/uploads/2021/12/265625080_386311323177101_2353127380480423848_n.jpg
END:VEVENT
BEGIN:VEVENT
DTSTART;TZID=Europe/Helsinki:20211230T210000
DTEND;TZID=Europe/Helsinki:20211230T210000
DTSTAMP:20260425T192447
CREATED:20211211T133107Z
LAST-MODIFIED:20211225T064204Z
UID:10000723-1640898000-1640898000@barloose.com
SUMMARY:PERUUNTUNUT/SIIRTYY: THE LONE MADMAN\, ZOMBIE EATER\, MANTEQUILLA
DESCRIPTION:THE LONE MADMAN\nhttps://www.facebook.com/thelonemadmanofficial\nhttps://thelonemadman.bandcamp.com/\nZOMBIE EATER\nhttps://www.facebook.com/ZombieEaterBand\nhttps://zombieeater.bandcamp.com/\nMANTEQUILLA\nhttps://www.facebook.com/mqarocks\nhttps://mantequilla.bandcamp.com/
URL:https://barloose.com/live/the-lone-madman-zombie-eater-mantequilla/
LOCATION:Bar Loose\, Annankatu 21\, Helsinki\, Helsinki\, 00100\, Finland
ATTACH;FMTTYPE=image/jpeg:https://barloose.com/wp-content/uploads/2021/12/262107934_3063961263851286_3021231198109035340_n.jpg
END:VEVENT
BEGIN:VEVENT
DTSTART;TZID=Europe/Helsinki:20211229T210000
DTEND;TZID=Europe/Helsinki:20211229T210000
DTSTAMP:20260425T192447
CREATED:20211211T125954Z
LAST-MODIFIED:20211225T064316Z
UID:10000719-1640811600-1640811600@barloose.com
SUMMARY:PERUUNTUNUT/SIIRTYY: BRIAN JA HELVETIN PERUNA\, KEIDAS
DESCRIPTION:
URL:https://barloose.com/live/brian-ja-helvetin-peruna-keidas/
LOCATION:Bar Loose\, Annankatu 21\, Helsinki\, Helsinki\, 00100\, Finland
ATTACH;FMTTYPE=image/jpeg:https://barloose.com/wp-content/uploads/2021/12/255873582_1517654965265649_6111731596043797422_n.jpg
END:VEVENT
BEGIN:VEVENT
DTSTART;TZID=Europe/Helsinki:20211222T210000
DTEND;TZID=Europe/Helsinki:20211222T210000
DTSTAMP:20260425T192447
CREATED:20211211T125740Z
LAST-MODIFIED:20211219T141610Z
UID:10000715-1640206800-1640206800@barloose.com
SUMMARY:PERUUNTUNUT: MAANALAISET -LEVYJULKKARI\, ANGRY ADULTS
DESCRIPTION:Keikkailta on peruuntunut sairastapauksesta johtuen. Korvaavasta päivästä ilmoitetaan pian.
URL:https://barloose.com/live/maanalaiset-levyjulkkari-angry-adults/
ATTACH;FMTTYPE=image/jpeg:https://barloose.com/wp-content/uploads/2021/11/Loose013.jpeg
END:VEVENT
BEGIN:VEVENT
DTSTART;TZID=Europe/Helsinki:20211218T210000
DTEND;TZID=Europe/Helsinki:20211218T210000
DTSTAMP:20260425T192447
CREATED:20211211T125526Z
LAST-MODIFIED:20211211T131839Z
UID:10000711-1639861200-1639861200@barloose.com
SUMMARY:LEHTIVIHREÄT\, SÄRKYNEET
DESCRIPTION:Viime kesän LPRHC Festeillä odotetun paluun keikkalavoille tehnyt Lehtivihreät jatkaa esiintymisiä Helsingissä\, Tampereella ja Hämeenlinnassa. Yhtye nousee lavalle alkuperäisessä kokoonpanossaan Pena\, Frank\, Jukkis ja Lale. \n20.00 ovet\n21.00 Särkyneet\n22.00 Lehtivihreät \nTapahtuman ennakkoliput tulevat myyntiin Tikettiin pe 5.11. klo 10.00. \n  \nBUY TICKETS
URL:https://barloose.com/live/lehtivihreat-sarkyneet/
LOCATION:Bar Loose\, Annankatu 21\, Helsinki\, Helsinki\, 00100\, Finland
ATTACH;FMTTYPE=image/jpeg:https://barloose.com/wp-content/uploads/2021/12/252873288_4973204659373641_1886149167625649438_n.jpg
END:VEVENT
BEGIN:VEVENT
DTSTART;TZID=Europe/Helsinki:20211217T231500
DTEND;TZID=Europe/Helsinki:20211217T231500
DTSTAMP:20260425T192447
CREATED:20211217T140945Z
LAST-MODIFIED:20211217T142146Z
UID:10000743-1639782900-1639782900@barloose.com
SUMMARY:DISKO INFERNO w/ DJ Iiro
DESCRIPTION:Uuhlalaa\, se olis viimeinen perjantai ennen kinkkujuhlia\, joten eiköhän paineta koko yö kybällä?!!! Luvassa kovimpia diskohittejä aina 70-luvulta nykypäivään. Puikoissa DJ Iiro ja meno vallaton. Virvoitusjuomia korvausta vastaan tiskiltä. \n\n\nKlubi 23.15-4.30 // Liput 6 euroa (sis. eteispalvelumaksu). Koronapassi vaateena.
URL:https://barloose.com/live/disko-inferno-w-dj-iiro/
ATTACH;FMTTYPE=image/jpeg:https://barloose.com/wp-content/uploads/2021/12/Iiro.jpeg
END:VEVENT
BEGIN:VEVENT
DTSTART;TZID=Europe/Helsinki:20211217T210000
DTEND;TZID=Europe/Helsinki:20211217T210000
DTSTAMP:20260425T192447
CREATED:20211211T125152Z
LAST-MODIFIED:20211215T143745Z
UID:10000707-1639774800-1639774800@barloose.com
SUMMARY:SÖRNÄINEN\, PAHA-VIITANEN
DESCRIPTION:BUY TICKETS
URL:https://barloose.com/live/sornainen-t-jarva-the-dark-place/
LOCATION:Bar Loose\, Annankatu 21\, Helsinki\, Helsinki\, 00100\, Finland
ATTACH;FMTTYPE=image/jpeg:https://barloose.com/wp-content/uploads/2021/12/264612485_2472279282914465_6896802954825869563_n.jpg
END:VEVENT
BEGIN:VEVENT
DTSTART;TZID=Europe/Helsinki:20211216T200000
DTEND;TZID=Europe/Helsinki:20211216T200000
DTSTAMP:20260425T192447
CREATED:20211211T124250Z
LAST-MODIFIED:20211211T124421Z
UID:10000705-1639684800-1639684800@barloose.com
SUMMARY:FEMALE FRONTED METAL NIGHT: MEMOIRA W/ AVERLANCHE
DESCRIPTION:Torstaina 16.12.2021 Bar Loosessa nähdään ensi kertaa Female Fronted Metal Night -kiertue\, jota tähdittämään saapuvat helsinkiläinen sinfonista metallia esittävä Averlanche\, sekä porilainen Memoira. \nIllan pääesiintyjän roolia toimittaa monelle tuttu Memoira\, joka julkaisee uutta musiikkia loppuvuodesta 2021.\nMolemmat yhtyeet suuntaavat Euroopan kiertueille ensivuoden puolella\, joten nyt on oivallinen tilaisuus tulla tsekkaamaan molempien orkestereiden livekunto! \nBUY TICKETS!
URL:https://barloose.com/live/female-fronted-metal-night/
LOCATION:Bar Loose\, Annankatu 21\, Helsinki\, Helsinki\, 00100\, Finland
ATTACH;FMTTYPE=image/jpeg:https://barloose.com/wp-content/uploads/2021/12/240169097_378200393666765_6180960046787484526_n.jpg
END:VEVENT
BEGIN:VEVENT
DTSTART;TZID=Europe/Helsinki:20211215T210000
DTEND;TZID=Europe/Helsinki:20211215T220000
DTSTAMP:20260425T192447
CREATED:20211123T101246Z
LAST-MODIFIED:20211123T101329Z
UID:10000700-1639602000-1639605600@barloose.com
SUMMARY:OMNIVORTEX\, DEVENIAL VERDICT\, VANGUARDIAN
DESCRIPTION:
URL:https://barloose.com/live/omnivortex-devenial-verdict-vanguardian/
LOCATION:Bar Loose\, Annankatu 21\, Helsinki\, Helsinki\, 00100\, Finland
ATTACH;FMTTYPE=image/jpeg:https://barloose.com/wp-content/uploads/2021/11/242263643_388736339325237_1282192784228020015_n.jpeg
END:VEVENT
BEGIN:VEVENT
DTSTART;TZID=Europe/Helsinki:20211211T210000
DTEND;TZID=Europe/Helsinki:20211211T220000
DTSTAMP:20260425T192447
CREATED:20211123T101004Z
LAST-MODIFIED:20211123T101027Z
UID:10000699-1639256400-1639260000@barloose.com
SUMMARY:M\, VERDURA
DESCRIPTION:Bar Loosessa la 11.12.keikalla M\, jonka lämmittelijänä toimii Verdura. \n20.30 ovet\n21.00 Verdura\n22.00 M \nTapahtuman ennakkoliput myynnissä maanantaina 22.11. klo 10.00.
URL:https://barloose.com/live/m-verdura/
LOCATION:Bar Loose\, Annankatu 21\, Helsinki\, Helsinki\, 00100\, Finland
ATTACH;FMTTYPE=image/jpeg:https://barloose.com/wp-content/uploads/2021/11/M.jpeg
END:VEVENT
BEGIN:VEVENT
DTSTART;TZID=Europe/Helsinki:20211210T200000
DTEND;TZID=Europe/Helsinki:20211210T210000
DTSTAMP:20260425T192447
CREATED:20211123T095731Z
LAST-MODIFIED:20211123T095731Z
UID:10000698-1639166400-1639170000@barloose.com
SUMMARY:40 YEARS OF METALLICA / PLASTICA PLAYS METALLICA
DESCRIPTION:
URL:https://barloose.com/live/40-years-of-metallica-plastica-plays-metallica/
LOCATION:Bar Loose\, Annankatu 21\, Helsinki\, Helsinki\, 00100\, Finland
ATTACH;FMTTYPE=image/jpeg:https://barloose.com/wp-content/uploads/2021/11/258718512_1543663809319298_7502901806806838150_n.jpeg
END:VEVENT
BEGIN:VEVENT
DTSTART;TZID=Europe/Helsinki:20211208T230000
DTEND;TZID=Europe/Helsinki:20211209T000000
DTSTAMP:20260425T192447
CREATED:20211119T122530Z
LAST-MODIFIED:20211119T122613Z
UID:10000697-1639004400-1639008000@barloose.com
SUMMARY:ROCK-CRIMINALS\, ALASTI
DESCRIPTION:Energisen punk rock-illan joulukuun hämäriin iltoihin tarjoilee Rock-Criminals ja Alasti-yhtyeet! \n20.30 ovet:\n21.00 Alasti\n22.00 Rock-Criminals \nLiput 8 euroa (+3 € eteispalvelumaksu).\nHuom! Koronapassi kysytään oella.
URL:https://barloose.com/live/rock-criminals-alasti/
LOCATION:Bar Loose\, Annankatu 21\, Helsinki\, Helsinki\, 00100\, Finland
ATTACH;FMTTYPE=image/jpeg:https://barloose.com/wp-content/uploads/2021/11/244591713_3922664007835458_3974599511669323783_n.jpeg
END:VEVENT
BEGIN:VEVENT
DTSTART;TZID=Europe/Helsinki:20211205T230000
DTEND;TZID=Europe/Helsinki:20211206T000000
DTSTAMP:20260425T192447
CREATED:20211119T121523Z
LAST-MODIFIED:20211119T121523Z
UID:10000696-1638745200-1638748800@barloose.com
SUMMARY:Dave Lindholm Lights
DESCRIPTION:Bar Loosessa ollaan perusasioiden äärellä\, kun Dave Lindholm tuo paikalle uuden sähköisen blues-bändinsä Dave Lindholm Lights\, jonka monipuolinen ohjelmisto saa kuuntelevan yleisön fliilistelyn lisäksi myös joraamaan. \nYhtyeen juurevan soundin kulmakivinä ovat Daven lisäksi useista eri kokoonpanoista tutuksi tulleet soittajat\, kitaristi Tommi Laine\, rumpali Juppo Paavola sekä jo SF-Bluesistakin tuttu basisti Mikko Löytty. \nTervetuloa mukaan kuulemaan ja kokemaan loistavia kappaleita\, hienoja musiikillisia elämyksiä sekä virtuoosimaista blues-kitarointia\, jota tarjoilee legenda\, yksi ja ainut\, Dave Lindholm. \nLiput 19\,5/20 euroa / Tapahtuman ennakkoliput nyt myynnissä!
URL:https://barloose.com/live/dave-lindholm-lights/
LOCATION:Bar Loose\, Annankatu 21\, Helsinki\, Helsinki\, 00100\, Finland
ATTACH;FMTTYPE=image/jpeg:https://barloose.com/wp-content/uploads/2021/11/255763650_4995655957128511_4003931699537787276_n.jpeg
END:VEVENT
BEGIN:VEVENT
DTSTART;TZID=Europe/Helsinki:20211204T230000
DTEND;TZID=Europe/Helsinki:20211205T000000
DTSTAMP:20260425T192447
CREATED:20211119T093409Z
LAST-MODIFIED:20211119T102750Z
UID:10000695-1638658800-1638662400@barloose.com
SUMMARY:RATFACE 15V. + FINAL ASSAULT\, NUCLEAR OMNICIDE
DESCRIPTION:
URL:https://barloose.com/live/ratface-15v-final-assault-nuclear-omnicide/
LOCATION:Bar Loose\, Annankatu 21\, Helsinki\, Helsinki\, 00100\, Finland
ATTACH;FMTTYPE=image/jpeg:https://barloose.com/wp-content/uploads/2021/11/slide_1.jpeg
END:VEVENT
END:VCALENDAR